BEGIN:VCALENDAR
VERSION:2.0
PRODID:spatie/icalendar-generator
DESCRIPTION:Events from CANDID
X-WR-CALDESC:Events from CANDID
REFRESH-INTERVAL;VALUE=DURATION:PT1440M
X-PUBLISHED-TTL:PT1440M
BEGIN:VTIMEZONE
TZID:America/New_York
BEGIN:STANDARD
DTSTART:20251102T020000Z
TZOFFSETFROM:-0400
TZOFFSETTO:-0500
END:STANDARD
BEGIN:DAYLIGHT
DTSTART:20260308T020000Z
TZOFFSETFROM:-0500
TZOFFSETTO:-0400
END:DAYLIGHT
END:VTIMEZONE
BEGIN:VTIMEZONE
TZID:UTC
BEGIN:STANDARD
DTSTART:20250727T144310Z
TZOFFSETFROM:+0000
TZOFFSETTO:+0000
END:STANDARD
END:VTIMEZONE
BEGIN:VEVENT
UID:67-3
DTSTAMP:20260423T144310Z
SUMMARY:CANDID MONTHLY MEETING
LOCATION:
ORGANIZER;CN=President Awori:MAILTO:president@awori.org
RRULE:FREQ=MONTHLY;BYDAY=4SU;COUNT=0
DTSTART;TZID=America/New_York:20260426T130000
DTEND;TZID=America/New_York:20260426T143000
X-ALT-DESC;FMTTYPE=TEXT/HTML:
CATEGORIES:General
URL;VALUE=URI:https://awori.org/my-calendar/?mc_id=67
METHOD:PUBLISH
END:VEVENT
END:VCALENDAR